BEGIN:VCALENDAR
VERSION:2.0
PRODID:-//communityofcarend.com//NONSGML kigkonsult.se iCalcreator 2.30.10/
 /
CALSCALE:GREGORIAN
METHOD:PUBLISH
UID:5d04adc1-d037-46b8-832c-0ea3f0d36365
X-WR-CALDESC:
X-WR-RELCALID:fda7b7dbe1667ec4e6a35eacca7f4c7e
X-WR-TIMEZONE:America/Chicago
BEGIN:VTIMEZONE
TZID:America/Chicago
BEGIN:STANDARD
TZNAME:CST
DTSTART:20281105T020000
TZOFFSETFROM:-0500
TZOFFSETTO:-0600
RDATE:20291104T020000
END:STANDARD
BEGIN:DAYLIGHT
TZNAME:CDT
DTSTART:20290311T020000
TZOFFSETFROM:-0600
TZOFFSETTO:-0500
RDATE:20300310T020000
END:DAYLIGHT
END:VTIMEZONE
BEGIN:VEVENT
UID:608c4754-0edf-41f2-8c7d-42cb7813aae7
DTSTAMP:20260421T192010Z
DESCRIPTION:
DTSTART;TZID=America/Chicago:20290424T140000
DTEND;TZID=America/Chicago:20290424T150000
LOCATION:Casselton City Hall
SUMMARY:Casselton Bone Builders
END:VEVENT
END:VCALENDAR
