BEGIN:VCALENDAR
VERSION:2.0
PRODID:-//communityofcarend.com//NONSGML kigkonsult.se iCalcreator 2.30.10/
 /
CALSCALE:GREGORIAN
METHOD:PUBLISH
UID:6c325a05-309f-475c-b574-89fb4006911a
X-WR-CALDESC:Low impact exercise class
X-WR-RELCALID:5433d887f88a0f8ec7b33e7a65e8e708
X-WR-TIMEZONE:America/Chicago
BEGIN:VTIMEZONE
TZID:America/Chicago
BEGIN:STANDARD
TZNAME:CST
DTSTART:20281105T020000
TZOFFSETFROM:-0500
TZOFFSETTO:-0600
RDATE:20291104T020000
END:STANDARD
BEGIN:DAYLIGHT
TZNAME:CDT
DTSTART:20290311T020000
TZOFFSETFROM:-0600
TZOFFSETTO:-0500
RDATE:20300310T020000
END:DAYLIGHT
END:VTIMEZONE
BEGIN:VEVENT
UID:93071470-a488-496b-bf11-12354221dfd6
DTSTAMP:20260421T191757Z
DESCRIPTION:Low impact exercise class
DTSTART;TZID=America/Chicago:20290423T103000
DTEND;TZID=America/Chicago:20290423T113000
LOCATION:Kindred City Hall
SUMMARY:Kindred Bone Builders
END:VEVENT
END:VCALENDAR
