BEGIN:VCALENDAR
VERSION:2.0
PRODID:-//communityofcarend.com//NONSGML kigkonsult.se iCalcreator 2.30.10/
 /
CALSCALE:GREGORIAN
METHOD:PUBLISH
UID:116323d6-2e89-4ad6-8ca8-83b3d4ac9da8
X-WR-CALDESC:
X-WR-RELCALID:0ef68fd0916a31f68243963aa9f8f961
X-WR-TIMEZONE:America/Chicago
BEGIN:VTIMEZONE
TZID:America/Chicago
BEGIN:STANDARD
TZNAME:CST
DTSTART:20281105T020000
TZOFFSETFROM:-0500
TZOFFSETTO:-0600
RDATE:20291104T020000
END:STANDARD
BEGIN:DAYLIGHT
TZNAME:CDT
DTSTART:20290311T020000
TZOFFSETFROM:-0600
TZOFFSETTO:-0500
RDATE:20300310T020000
END:DAYLIGHT
END:VTIMEZONE
BEGIN:VEVENT
UID:aac728a2-b5cb-4b21-b0b2-6b0d80be43f0
DTSTAMP:20260421T192121Z
DESCRIPTION:
DTSTART;TZID=America/Chicago:20290412T140000
DTEND;TZID=America/Chicago:20290412T150000
LOCATION:Casselton City Hall
SUMMARY:Casselton Bone Builders
END:VEVENT
END:VCALENDAR
