BEGIN:VCALENDAR
VERSION:2.0
PRODID:-//communityofcarend.com//NONSGML kigkonsult.se iCalcreator 2.30.10/
 /
CALSCALE:GREGORIAN
METHOD:PUBLISH
UID:4412aacb-eb69-471f-8b84-de3d279ded28
X-WR-CALDESC:Low impact exercise class
X-WR-RELCALID:320fc31464a8ef3197942ee8494fb9b9
X-WR-TIMEZONE:America/Chicago
BEGIN:VTIMEZONE
TZID:America/Chicago
BEGIN:STANDARD
TZNAME:CST
DTSTART:20281105T020000
TZOFFSETFROM:-0500
TZOFFSETTO:-0600
RDATE:20291104T020000
END:STANDARD
BEGIN:DAYLIGHT
TZNAME:CDT
DTSTART:20290311T020000
TZOFFSETFROM:-0600
TZOFFSETTO:-0500
RDATE:20300310T020000
END:DAYLIGHT
END:VTIMEZONE
BEGIN:VEVENT
UID:85a01878-a51d-4cfe-bbf8-4e7016f9c5cf
DTSTAMP:20260421T191712Z
DESCRIPTION:Low impact exercise class
DTSTART;TZID=America/Chicago:20290409T103000
DTEND;TZID=America/Chicago:20290409T113000
LOCATION:Kindred City Hall
SUMMARY:Kindred Bone Builders
END:VEVENT
END:VCALENDAR
