BEGIN:VCALENDAR
VERSION:2.0
PRODID:-//communityofcarend.com//NONSGML kigkonsult.se iCalcreator 2.30.10/
 /
CALSCALE:GREGORIAN
METHOD:PUBLISH
UID:49bba284-f628-454f-87c0-50e11797665b
X-WR-CALDESC:Low-impact exercise classes.
X-WR-RELCALID:5f927280fa1f60f03a0188436be13c4f
X-WR-TIMEZONE:America/Chicago
BEGIN:VTIMEZONE
TZID:America/Chicago
BEGIN:STANDARD
TZNAME:CST
DTSTART:20281105T020000
TZOFFSETFROM:-0500
TZOFFSETTO:-0600
RDATE:20291104T020000
END:STANDARD
BEGIN:DAYLIGHT
TZNAME:CDT
DTSTART:20290311T020000
TZOFFSETFROM:-0600
TZOFFSETTO:-0500
RDATE:20300310T020000
END:DAYLIGHT
END:VTIMEZONE
BEGIN:VEVENT
UID:2994dd0b-8f1b-473b-9003-66fe37487925
DTSTAMP:20260421T175428Z
DESCRIPTION:Low-impact exercise classes.
DTSTART;TZID=America/Chicago:20290330T103000
DTEND;TZID=America/Chicago:20290330T113000
LOCATION:Kindred City Hall
SUMMARY:Kindred Bone Builders
END:VEVENT
END:VCALENDAR
