BEGIN:VCALENDAR
VERSION:2.0
PRODID:-//communityofcarend.com//NONSGML kigkonsult.se iCalcreator 2.30.10/
 /
CALSCALE:GREGORIAN
METHOD:PUBLISH
UID:b05bef74-0dba-40da-9f7d-4f6315dc7564
X-WR-CALDESC:Bone Builder Exercise Class
X-WR-RELCALID:0fe5f45013e4abf36b59b2235464a89c
X-WR-TIMEZONE:America/Chicago
BEGIN:VTIMEZONE
TZID:America/Chicago
BEGIN:STANDARD
TZNAME:CST
DTSTART:20281105T020000
TZOFFSETFROM:-0500
TZOFFSETTO:-0600
RDATE:20291104T020000
END:STANDARD
BEGIN:DAYLIGHT
TZNAME:CDT
DTSTART:20290311T020000
TZOFFSETFROM:-0600
TZOFFSETTO:-0500
RDATE:20300310T020000
END:DAYLIGHT
END:VTIMEZONE
BEGIN:VEVENT
UID:57c6f5ee-190d-4c88-9dc8-d4a463359b9b
DTSTAMP:20260421T175441Z
DESCRIPTION:Bone Builder Exercise Class
DTSTART;TZID=America/Chicago:20290319T100000
DTEND;TZID=America/Chicago:20290319T110000
LOCATION:Horace Senior Center
SUMMARY:Horace Bone Builders
END:VEVENT
END:VCALENDAR
