BEGIN:VCALENDAR
VERSION:2.0
PRODID:-//communityofcarend.com//NONSGML kigkonsult.se iCalcreator 2.30.10/
 /
CALSCALE:GREGORIAN
METHOD:PUBLISH
UID:9f423b89-841b-4b82-8884-58e751ae6220
X-WR-CALDESC:Low-impact exercise classes.
X-WR-RELCALID:80c546d0eca6485b37b3a37f2f68336c
X-WR-TIMEZONE:America/Chicago
BEGIN:VTIMEZONE
TZID:America/Chicago
BEGIN:STANDARD
TZNAME:CST
DTSTART:20281105T020000
TZOFFSETFROM:-0500
TZOFFSETTO:-0600
RDATE:20291104T020000
END:STANDARD
BEGIN:DAYLIGHT
TZNAME:CDT
DTSTART:20280312T020000
TZOFFSETFROM:-0600
TZOFFSETTO:-0500
RDATE:20290311T020000
RDATE:20300310T020000
END:DAYLIGHT
END:VTIMEZONE
BEGIN:VEVENT
UID:d1cb5c2f-5de9-4cf5-88f1-188395bfbe9d
DTSTAMP:20260421T175317Z
DESCRIPTION:Low-impact exercise classes.
DTSTART;TZID=America/Chicago:20290302T103000
DTEND;TZID=America/Chicago:20290302T113000
LOCATION:Kindred City Hall
SUMMARY:Kindred Bone Builders
END:VEVENT
END:VCALENDAR
