BEGIN:VCALENDAR
VERSION:2.0
PRODID:-//communityofcarend.com//NONSGML kigkonsult.se iCalcreator 2.30.10/
 /
CALSCALE:GREGORIAN
METHOD:PUBLISH
UID:9647c867-9ec6-4ef4-9385-be01f507fdb4
X-WR-CALDESC:Bone Builder Exercise Class
X-WR-RELCALID:03b5550cb3baf9496962600c6570d3d3
X-WR-TIMEZONE:America/Chicago
BEGIN:VTIMEZONE
TZID:America/Chicago
BEGIN:STANDARD
TZNAME:CST
DTSTART:20281105T020000
TZOFFSETFROM:-0500
TZOFFSETTO:-0600
RDATE:20291104T020000
END:STANDARD
BEGIN:DAYLIGHT
TZNAME:CDT
DTSTART:20280312T020000
TZOFFSETFROM:-0600
TZOFFSETTO:-0500
RDATE:20290311T020000
RDATE:20300310T020000
END:DAYLIGHT
END:VTIMEZONE
BEGIN:VEVENT
UID:99778c2e-8584-418f-ae1d-7d63ade474b7
DTSTAMP:20260421T162538Z
DESCRIPTION:Bone Builder Exercise Class
DTSTART;TZID=America/Chicago:20290219T100000
DTEND;TZID=America/Chicago:20290219T110000
LOCATION:Horace Senior Center
SUMMARY:Horace Bone Builders
END:VEVENT
END:VCALENDAR
