BEGIN:VCALENDAR
VERSION:2.0
PRODID:-//communityofcarend.com//NONSGML kigkonsult.se iCalcreator 2.30.10/
 /
CALSCALE:GREGORIAN
METHOD:PUBLISH
UID:9782b55e-792e-46e2-8622-3a8ee822f822
X-WR-CALDESC:Low impact exercise class
X-WR-RELCALID:a1fc7cdfb1be8cdb2444cafd6d0cbe6f
X-WR-TIMEZONE:America/Chicago
BEGIN:VTIMEZONE
TZID:America/Chicago
BEGIN:STANDARD
TZNAME:CST
DTSTART:20281105T020000
TZOFFSETFROM:-0500
TZOFFSETTO:-0600
RDATE:20291104T020000
END:STANDARD
BEGIN:DAYLIGHT
TZNAME:CDT
DTSTART:20280312T020000
TZOFFSETFROM:-0600
TZOFFSETTO:-0500
RDATE:20290311T020000
RDATE:20300310T020000
END:DAYLIGHT
END:VTIMEZONE
BEGIN:VEVENT
UID:9d30f60b-5b5e-411f-8a4d-73237d2c8c07
DTSTAMP:20260421T162315Z
DESCRIPTION:Low impact exercise class
DTSTART;TZID=America/Chicago:20290212T103000
DTEND;TZID=America/Chicago:20290212T113000
LOCATION:Kindred City Hall
SUMMARY:Kindred Bone Builders
END:VEVENT
END:VCALENDAR
