BEGIN:VCALENDAR
VERSION:2.0
PRODID:-//communityofcarend.com//NONSGML kigkonsult.se iCalcreator 2.30.10/
 /
CALSCALE:GREGORIAN
METHOD:PUBLISH
UID:b3d0d503-3969-49b6-b9d6-19b4ca748bd9
X-WR-CALDESC:Low impact exercise class
X-WR-RELCALID:2cba94a0297d1b717c5ab920b4acd8c2
X-WR-TIMEZONE:America/Chicago
BEGIN:VTIMEZONE
TZID:America/Chicago
BEGIN:STANDARD
TZNAME:CST
DTSTART:20281105T020000
TZOFFSETFROM:-0500
TZOFFSETTO:-0600
RDATE:20291104T020000
END:STANDARD
BEGIN:DAYLIGHT
TZNAME:CDT
DTSTART:20280312T020000
TZOFFSETFROM:-0600
TZOFFSETTO:-0500
RDATE:20290311T020000
RDATE:20300310T020000
END:DAYLIGHT
END:VTIMEZONE
BEGIN:VEVENT
UID:69c08766-16d8-4688-8b66-1e523d7ed51e
DTSTAMP:20260421T162317Z
DESCRIPTION:Low impact exercise class
DTSTART;TZID=America/Chicago:20290205T103000
DTEND;TZID=America/Chicago:20290205T113000
LOCATION:Kindred City Hall
SUMMARY:Kindred Bone Builders
END:VEVENT
END:VCALENDAR
