BEGIN:VCALENDAR
VERSION:2.0
PRODID:-//communityofcarend.com//NONSGML kigkonsult.se iCalcreator 2.30.10/
 /
CALSCALE:GREGORIAN
METHOD:PUBLISH
UID:634d0fb3-a84d-4cd8-8890-e19428730f08
X-WR-CALDESC:Bone Builder Exercise Class
X-WR-RELCALID:219c5b31c1aa9c91448d148f762b2c44
X-WR-TIMEZONE:America/Chicago
BEGIN:VTIMEZONE
TZID:America/Chicago
BEGIN:STANDARD
TZNAME:CST
DTSTART:20281105T020000
TZOFFSETFROM:-0500
TZOFFSETTO:-0600
RDATE:20291104T020000
END:STANDARD
BEGIN:DAYLIGHT
TZNAME:CDT
DTSTART:20280312T020000
TZOFFSETFROM:-0600
TZOFFSETTO:-0500
RDATE:20290311T020000
RDATE:20300310T020000
END:DAYLIGHT
END:VTIMEZONE
BEGIN:VEVENT
UID:34397ef8-8f5e-4e65-8173-31b6b93b88a4
DTSTAMP:20260421T162359Z
DESCRIPTION:Bone Builder Exercise Class
DTSTART;TZID=America/Chicago:20290201T100000
DTEND;TZID=America/Chicago:20290201T110000
LOCATION:Horace Senior Center
SUMMARY:Horace Bone Builders
END:VEVENT
END:VCALENDAR
