BEGIN:VCALENDAR
VERSION:2.0
PRODID:-//communityofcarend.com//NONSGML kigkonsult.se iCalcreator 2.30.10/
 /
CALSCALE:GREGORIAN
METHOD:PUBLISH
UID:f37db696-619f-48f4-9bb4-510d2dbf50ae
X-WR-CALDESC:Bone Builder Exercise Class
X-WR-RELCALID:cb82c72c3a619eaded5230beffd173d4
X-WR-TIMEZONE:America/Chicago
BEGIN:VTIMEZONE
TZID:America/Chicago
BEGIN:STANDARD
TZNAME:CST
DTSTART:20281105T020000
TZOFFSETFROM:-0500
TZOFFSETTO:-0600
RDATE:20291104T020000
END:STANDARD
BEGIN:DAYLIGHT
TZNAME:CDT
DTSTART:20280312T020000
TZOFFSETFROM:-0600
TZOFFSETTO:-0500
RDATE:20290311T020000
RDATE:20300310T020000
END:DAYLIGHT
END:VTIMEZONE
BEGIN:VEVENT
UID:c9d3454b-9f5e-4b0f-b9b7-a3c0236bcc42
DTSTAMP:20260421T151723Z
DESCRIPTION:Bone Builder Exercise Class
DTSTART;TZID=America/Chicago:20290125T100000
DTEND;TZID=America/Chicago:20290125T110000
LOCATION:Horace Senior Center
SUMMARY:Horace Bone Builders
END:VEVENT
END:VCALENDAR
