BEGIN:VCALENDAR
VERSION:2.0
PRODID:-//communityofcarend.com//NONSGML kigkonsult.se iCalcreator 2.30.10/
 /
CALSCALE:GREGORIAN
METHOD:PUBLISH
UID:ca668222-e6cc-4aeb-9203-15ba56f33678
X-WR-CALDESC:Bone Builder Exercise Class
X-WR-RELCALID:542f179252aeab0262f5fc81487de081
X-WR-TIMEZONE:America/Chicago
BEGIN:VTIMEZONE
TZID:America/Chicago
BEGIN:STANDARD
TZNAME:CST
DTSTART:20281105T020000
TZOFFSETFROM:-0500
TZOFFSETTO:-0600
RDATE:20291104T020000
END:STANDARD
BEGIN:DAYLIGHT
TZNAME:CDT
DTSTART:20280312T020000
TZOFFSETFROM:-0600
TZOFFSETTO:-0500
RDATE:20290311T020000
RDATE:20300310T020000
END:DAYLIGHT
END:VTIMEZONE
BEGIN:VEVENT
UID:22c91783-b477-460c-aec2-328338d0e611
DTSTAMP:20260421T151805Z
DESCRIPTION:Bone Builder Exercise Class
DTSTART;TZID=America/Chicago:20290118T100000
DTEND;TZID=America/Chicago:20290118T110000
LOCATION:Horace Senior Center
SUMMARY:Horace Bone Builders
END:VEVENT
END:VCALENDAR
