BEGIN:VCALENDAR
VERSION:2.0
PRODID:-//communityofcarend.com//NONSGML kigkonsult.se iCalcreator 2.30.10/
 /
CALSCALE:GREGORIAN
METHOD:PUBLISH
UID:69784614-701c-46e4-bdc3-01dd0476369b
X-WR-CALDESC:Bone Builder Exercise Class
X-WR-RELCALID:16c9126330472dd501ad2a39dc92f73e
X-WR-TIMEZONE:America/Chicago
BEGIN:VTIMEZONE
TZID:America/Chicago
BEGIN:STANDARD
TZNAME:CST
DTSTART:20281105T020000
TZOFFSETFROM:-0500
TZOFFSETTO:-0600
RDATE:20291104T020000
END:STANDARD
BEGIN:DAYLIGHT
TZNAME:CDT
DTSTART:20280312T020000
TZOFFSETFROM:-0600
TZOFFSETTO:-0500
RDATE:20290311T020000
RDATE:20300310T020000
END:DAYLIGHT
END:VTIMEZONE
BEGIN:VEVENT
UID:68f53c91-3bd5-4e7f-b825-fe4118855808
DTSTAMP:20260421T150829Z
DESCRIPTION:Bone Builder Exercise Class
DTSTART;TZID=America/Chicago:20290108T100000
DTEND;TZID=America/Chicago:20290108T110000
LOCATION:Horace Senior Center
SUMMARY:Horace Bone Builders
END:VEVENT
END:VCALENDAR
