BEGIN:VCALENDAR
VERSION:2.0
PRODID:-//communityofcarend.com//NONSGML kigkonsult.se iCalcreator 2.30.10/
 /
CALSCALE:GREGORIAN
METHOD:PUBLISH
UID:ed9a2cff-4384-4ed3-891a-e3d65212e90d
X-WR-CALDESC:Bone Builder Exercise Class
X-WR-RELCALID:e17d0dcd26dbe1d9931688f7519c9436
X-WR-TIMEZONE:America/Chicago
BEGIN:VTIMEZONE
TZID:America/Chicago
BEGIN:STANDARD
TZNAME:CST
DTSTART:20281105T020000
TZOFFSETFROM:-0500
TZOFFSETTO:-0600
RDATE:20291104T020000
END:STANDARD
BEGIN:DAYLIGHT
TZNAME:CDT
DTSTART:20280312T020000
TZOFFSETFROM:-0600
TZOFFSETTO:-0500
RDATE:20290311T020000
RDATE:20300310T020000
END:DAYLIGHT
END:VTIMEZONE
BEGIN:VEVENT
UID:c52d0bf7-f1b9-4054-9494-fa67100b2960
DTSTAMP:20260421T150242Z
DESCRIPTION:Bone Builder Exercise Class
DTSTART;TZID=America/Chicago:20290104T100000
DTEND;TZID=America/Chicago:20290104T110000
LOCATION:Horace Senior Center
SUMMARY:Horace Bone Builders
END:VEVENT
END:VCALENDAR
