BEGIN:VCALENDAR
VERSION:2.0
PRODID:-//communityofcarend.com//NONSGML kigkonsult.se iCalcreator 2.30.10/
 /
CALSCALE:GREGORIAN
METHOD:PUBLISH
UID:ae556f75-bb5b-4f74-b856-68317bf702c7
X-WR-CALDESC:Low-impact exercise classes.
X-WR-RELCALID:c098c1c2176b1b1536d87e9cda1f516e
X-WR-TIMEZONE:America/Chicago
BEGIN:VTIMEZONE
TZID:America/Chicago
BEGIN:STANDARD
TZNAME:CST
DTSTART:20281105T020000
TZOFFSETFROM:-0500
TZOFFSETTO:-0600
RDATE:20291104T020000
END:STANDARD
BEGIN:DAYLIGHT
TZNAME:CDT
DTSTART:20280312T020000
TZOFFSETFROM:-0600
TZOFFSETTO:-0500
RDATE:20290311T020000
RDATE:20300310T020000
END:DAYLIGHT
END:VTIMEZONE
BEGIN:VEVENT
UID:b2907426-3b8e-4b38-a735-4dd5b7161a38
DTSTAMP:20260421T133324Z
DESCRIPTION:Low-impact exercise classes.
DTSTART;TZID=America/Chicago:20281229T103000
DTEND;TZID=America/Chicago:20281229T113000
LOCATION:Kindred City Hall
SUMMARY:Kindred Bone Builders
END:VEVENT
END:VCALENDAR
