BEGIN:VCALENDAR
VERSION:2.0
PRODID:-//communityofcarend.com//NONSGML kigkonsult.se iCalcreator 2.30.10/
 /
CALSCALE:GREGORIAN
METHOD:PUBLISH
UID:9f2e5dc1-1f19-4257-b8b8-15121257a4e9
X-WR-CALDESC:Bone Builder Exercise Class
X-WR-RELCALID:4f6802ed2c093c5197db6926300e99d9
X-WR-TIMEZONE:America/Chicago
BEGIN:VTIMEZONE
TZID:America/Chicago
BEGIN:STANDARD
TZNAME:CST
DTSTART:20281105T020000
TZOFFSETFROM:-0500
TZOFFSETTO:-0600
RDATE:20291104T020000
END:STANDARD
BEGIN:DAYLIGHT
TZNAME:CDT
DTSTART:20280312T020000
TZOFFSETFROM:-0600
TZOFFSETTO:-0500
RDATE:20290311T020000
RDATE:20300310T020000
END:DAYLIGHT
END:VTIMEZONE
BEGIN:VEVENT
UID:4a234db5-5bbf-4727-94be-8d0076ab545e
DTSTAMP:20260421T133603Z
DESCRIPTION:Bone Builder Exercise Class
DTSTART;TZID=America/Chicago:20281225T100000
DTEND;TZID=America/Chicago:20281225T110000
LOCATION:Horace Senior Center
SUMMARY:Horace Bone Builders
END:VEVENT
END:VCALENDAR
