BEGIN:VCALENDAR
VERSION:2.0
PRODID:-//communityofcarend.com//NONSGML kigkonsult.se iCalcreator 2.30.10/
 /
CALSCALE:GREGORIAN
METHOD:PUBLISH
UID:9e0d45ab-768f-458c-aa5a-2aa1c4c421c5
X-WR-CALDESC:Bone Builder Exercise Class
X-WR-RELCALID:74e448696337140325c0a300d9ecc30a
X-WR-TIMEZONE:America/Chicago
BEGIN:VTIMEZONE
TZID:America/Chicago
BEGIN:STANDARD
TZNAME:CST
DTSTART:20281105T020000
TZOFFSETFROM:-0500
TZOFFSETTO:-0600
RDATE:20291104T020000
END:STANDARD
BEGIN:DAYLIGHT
TZNAME:CDT
DTSTART:20280312T020000
TZOFFSETFROM:-0600
TZOFFSETTO:-0500
RDATE:20290311T020000
RDATE:20300310T020000
END:DAYLIGHT
END:VTIMEZONE
BEGIN:VEVENT
UID:9f01bc94-ca84-4e27-8ecc-5746548af975
DTSTAMP:20260421T133513Z
DESCRIPTION:Bone Builder Exercise Class
DTSTART;TZID=America/Chicago:20281218T100000
DTEND;TZID=America/Chicago:20281218T110000
LOCATION:Horace Senior Center
SUMMARY:Horace Bone Builders
END:VEVENT
END:VCALENDAR
