BEGIN:VCALENDAR
VERSION:2.0
PRODID:-//communityofcarend.com//NONSGML kigkonsult.se iCalcreator 2.30.10/
 /
CALSCALE:GREGORIAN
METHOD:PUBLISH
UID:5ff65198-ff5c-42f3-85d3-f9865a72c73d
X-WR-CALDESC:Bone Builder Exercise Class
X-WR-RELCALID:b25a1ce44c97bb791a0c9f85bdae99a9
X-WR-TIMEZONE:America/Chicago
BEGIN:VTIMEZONE
TZID:America/Chicago
BEGIN:STANDARD
TZNAME:CST
DTSTART:20281105T020000
TZOFFSETFROM:-0500
TZOFFSETTO:-0600
RDATE:20291104T020000
END:STANDARD
BEGIN:DAYLIGHT
TZNAME:CDT
DTSTART:20280312T020000
TZOFFSETFROM:-0600
TZOFFSETTO:-0500
RDATE:20290311T020000
RDATE:20300310T020000
END:DAYLIGHT
END:VTIMEZONE
BEGIN:VEVENT
UID:85c71c35-9597-4ee2-be38-0bfe5e37ab3d
DTSTAMP:20260421T133453Z
DESCRIPTION:Bone Builder Exercise Class
DTSTART;TZID=America/Chicago:20281211T100000
DTEND;TZID=America/Chicago:20281211T110000
LOCATION:Horace Senior Center
SUMMARY:Horace Bone Builders
END:VEVENT
END:VCALENDAR
