BEGIN:VCALENDAR
VERSION:2.0
PRODID:-//communityofcarend.com//NONSGML kigkonsult.se iCalcreator 2.30.10/
 /
CALSCALE:GREGORIAN
METHOD:PUBLISH
UID:15ae0c49-27be-4b34-8671-70dcb23af0fa
X-WR-CALDESC:Low-impact exercise classes.
X-WR-RELCALID:0894d8cf567ec11a2c6abd45f4e3d363
X-WR-TIMEZONE:America/Chicago
BEGIN:VTIMEZONE
TZID:America/Chicago
BEGIN:STANDARD
TZNAME:CST
DTSTART:20281105T020000
TZOFFSETFROM:-0500
TZOFFSETTO:-0600
RDATE:20291104T020000
END:STANDARD
BEGIN:DAYLIGHT
TZNAME:CDT
DTSTART:20280312T020000
TZOFFSETFROM:-0600
TZOFFSETTO:-0500
RDATE:20290311T020000
RDATE:20300310T020000
END:DAYLIGHT
END:VTIMEZONE
BEGIN:VEVENT
UID:015f277e-69d0-4a87-83ec-9cf6ef143f12
DTSTAMP:20260421T133200Z
DESCRIPTION:Low-impact exercise classes.
DTSTART;TZID=America/Chicago:20281208T103000
DTEND;TZID=America/Chicago:20281208T113000
LOCATION:Kindred City Hall
SUMMARY:Kindred Bone Builders
END:VEVENT
END:VCALENDAR
