BEGIN:VCALENDAR
VERSION:2.0
PRODID:-//communityofcarend.com//NONSGML kigkonsult.se iCalcreator 2.30.10/
 /
CALSCALE:GREGORIAN
METHOD:PUBLISH
UID:825616df-5e02-4660-8e9a-0fb0fc9fc71a
X-WR-CALDESC:Bone Builder Exercise Class
X-WR-RELCALID:2d6e479167ba6e476cdeb164e8616781
X-WR-TIMEZONE:America/Chicago
BEGIN:VTIMEZONE
TZID:America/Chicago
BEGIN:STANDARD
TZNAME:CST
DTSTART:20281105T020000
TZOFFSETFROM:-0500
TZOFFSETTO:-0600
RDATE:20291104T020000
END:STANDARD
BEGIN:DAYLIGHT
TZNAME:CDT
DTSTART:20280312T020000
TZOFFSETFROM:-0600
TZOFFSETTO:-0500
RDATE:20290311T020000
RDATE:20300310T020000
END:DAYLIGHT
END:VTIMEZONE
BEGIN:VEVENT
UID:87fb008a-4bed-4d1b-ab53-a19e0418c66c
DTSTAMP:20260421T133508Z
DESCRIPTION:Bone Builder Exercise Class
DTSTART;TZID=America/Chicago:20281204T100000
DTEND;TZID=America/Chicago:20281204T110000
LOCATION:Horace Senior Center
SUMMARY:Horace Bone Builders
END:VEVENT
END:VCALENDAR
