BEGIN:VCALENDAR
VERSION:2.0
PRODID:-//communityofcarend.com//NONSGML kigkonsult.se iCalcreator 2.30.10/
 /
CALSCALE:GREGORIAN
METHOD:PUBLISH
UID:5751a523-256a-4666-90e4-bdd70ef50e08
X-WR-CALDESC:Low impact exercise class
X-WR-RELCALID:a892bc8c7d62d5c586a76dc3d9ccf4ee
X-WR-TIMEZONE:America/Chicago
BEGIN:VTIMEZONE
TZID:America/Chicago
BEGIN:STANDARD
TZNAME:CST
DTSTART:20281105T020000
TZOFFSETFROM:-0500
TZOFFSETTO:-0600
RDATE:20291104T020000
END:STANDARD
BEGIN:DAYLIGHT
TZNAME:CDT
DTSTART:20280312T020000
TZOFFSETFROM:-0600
TZOFFSETTO:-0500
RDATE:20290311T020000
RDATE:20300310T020000
END:DAYLIGHT
END:VTIMEZONE
BEGIN:VEVENT
UID:d6b4acbc-8f71-4b75-a3d5-634245163c74
DTSTAMP:20260421T120245Z
DESCRIPTION:Low impact exercise class
DTSTART;TZID=America/Chicago:20281127T103000
DTEND;TZID=America/Chicago:20281127T113000
LOCATION:Kindred City Hall
SUMMARY:Kindred Bone Builders
END:VEVENT
END:VCALENDAR
