BEGIN:VCALENDAR
VERSION:2.0
PRODID:-//communityofcarend.com//NONSGML kigkonsult.se iCalcreator 2.30.10/
 /
CALSCALE:GREGORIAN
METHOD:PUBLISH
UID:20d77781-3c24-4f99-b80c-06524d2bc425
X-WR-CALDESC:Bone Builder Exercise Class
X-WR-RELCALID:ed1cb752a5cea03db4338c06db6f9489
X-WR-TIMEZONE:America/Chicago
BEGIN:VTIMEZONE
TZID:America/Chicago
BEGIN:STANDARD
TZNAME:CST
DTSTART:20281105T020000
TZOFFSETFROM:-0500
TZOFFSETTO:-0600
RDATE:20291104T020000
END:STANDARD
BEGIN:DAYLIGHT
TZNAME:CDT
DTSTART:20280312T020000
TZOFFSETFROM:-0600
TZOFFSETTO:-0500
RDATE:20290311T020000
RDATE:20300310T020000
END:DAYLIGHT
END:VTIMEZONE
BEGIN:VEVENT
UID:4f92ff8f-8e48-4dec-87bf-af2c423667af
DTSTAMP:20260421T121129Z
DESCRIPTION:Bone Builder Exercise Class
DTSTART;TZID=America/Chicago:20281120T100000
DTEND;TZID=America/Chicago:20281120T110000
LOCATION:Horace Senior Center
SUMMARY:Horace Bone Builders
END:VEVENT
END:VCALENDAR
