BEGIN:VCALENDAR
VERSION:2.0
PRODID:-//communityofcarend.com//NONSGML kigkonsult.se iCalcreator 2.30.10/
 /
CALSCALE:GREGORIAN
METHOD:PUBLISH
UID:e86f1c95-ce9b-4f68-b249-5264dd7b041d
X-WR-CALDESC:Bone Builder Exercise Class
X-WR-RELCALID:9c0b6a116251c79e800dc43db577c77f
X-WR-TIMEZONE:America/Chicago
BEGIN:VTIMEZONE
TZID:America/Chicago
BEGIN:STANDARD
TZNAME:CST
DTSTART:20281105T020000
TZOFFSETFROM:-0500
TZOFFSETTO:-0600
RDATE:20291104T020000
END:STANDARD
BEGIN:DAYLIGHT
TZNAME:CDT
DTSTART:20280312T020000
TZOFFSETFROM:-0600
TZOFFSETTO:-0500
RDATE:20290311T020000
RDATE:20300310T020000
END:DAYLIGHT
END:VTIMEZONE
BEGIN:VEVENT
UID:830f07f4-64d2-448d-923f-79d97aa52ffe
DTSTAMP:20260421T115806Z
DESCRIPTION:Bone Builder Exercise Class
DTSTART;TZID=America/Chicago:20281113T100000
DTEND;TZID=America/Chicago:20281113T110000
LOCATION:Horace Senior Center
SUMMARY:Horace Bone Builders
END:VEVENT
END:VCALENDAR
