BEGIN:VCALENDAR
VERSION:2.0
PRODID:-//communityofcarend.com//NONSGML kigkonsult.se iCalcreator 2.30.10/
 /
CALSCALE:GREGORIAN
METHOD:PUBLISH
UID:498af5a9-631c-48bf-8f5e-8159c221f40d
X-WR-CALDESC:Bone Builder Exercise Class
X-WR-RELCALID:db39c8c50ddb9f9adc3ba2acad053e3f
X-WR-TIMEZONE:America/Chicago
BEGIN:VTIMEZONE
TZID:America/Chicago
BEGIN:STANDARD
TZNAME:CST
DTSTART:20281105T020000
TZOFFSETFROM:-0500
TZOFFSETTO:-0600
RDATE:20291104T020000
END:STANDARD
BEGIN:DAYLIGHT
TZNAME:CDT
DTSTART:20280312T020000
TZOFFSETFROM:-0600
TZOFFSETTO:-0500
RDATE:20290311T020000
RDATE:20300310T020000
END:DAYLIGHT
END:VTIMEZONE
BEGIN:VEVENT
UID:677a43ad-6936-49a6-bc9a-e67c5d920343
DTSTAMP:20260421T115913Z
DESCRIPTION:Bone Builder Exercise Class
DTSTART;TZID=America/Chicago:20281109T100000
DTEND;TZID=America/Chicago:20281109T110000
LOCATION:Horace Senior Center
SUMMARY:Horace Bone Builders
END:VEVENT
END:VCALENDAR
