BEGIN:VCALENDAR
VERSION:2.0
PRODID:-//communityofcarend.com//NONSGML kigkonsult.se iCalcreator 2.30.10/
 /
CALSCALE:GREGORIAN
METHOD:PUBLISH
UID:1b735947-6f7b-41f2-9b0d-3df5c972891f
X-WR-CALDESC:Bone Builder Exercise Class
X-WR-RELCALID:cbffd9f852bd335c6b0925f1ac1be011
X-WR-TIMEZONE:America/Chicago
BEGIN:VTIMEZONE
TZID:America/Chicago
BEGIN:STANDARD
TZNAME:CST
DTSTART:20271107T020000
TZOFFSETFROM:-0500
TZOFFSETTO:-0600
RDATE:20281105T020000
RDATE:20291104T020000
END:STANDARD
BEGIN:DAYLIGHT
TZNAME:CDT
DTSTART:20280312T020000
TZOFFSETFROM:-0600
TZOFFSETTO:-0500
RDATE:20290311T020000
RDATE:20300310T020000
END:DAYLIGHT
END:VTIMEZONE
BEGIN:VEVENT
UID:4679a270-a283-4adc-a899-5edbc329b868
DTSTAMP:20260421T121027Z
DESCRIPTION:Bone Builder Exercise Class
DTSTART;TZID=America/Chicago:20281102T100000
DTEND;TZID=America/Chicago:20281102T110000
LOCATION:Horace Senior Center
SUMMARY:Horace Bone Builders
END:VEVENT
END:VCALENDAR
