BEGIN:VCALENDAR
VERSION:2.0
PRODID:-//communityofcarend.com//NONSGML kigkonsult.se iCalcreator 2.30.10/
 /
CALSCALE:GREGORIAN
METHOD:PUBLISH
UID:178cc045-e0a5-4a34-9219-6954919294d5
X-WR-CALDESC:
X-WR-RELCALID:806d0a24d354973e1207ca158e833373
X-WR-TIMEZONE:America/Chicago
BEGIN:VTIMEZONE
TZID:America/Chicago
BEGIN:STANDARD
TZNAME:CST
DTSTART:20271107T020000
TZOFFSETFROM:-0500
TZOFFSETTO:-0600
RDATE:20281105T020000
RDATE:20291104T020000
END:STANDARD
BEGIN:DAYLIGHT
TZNAME:CDT
DTSTART:20280312T020000
TZOFFSETFROM:-0600
TZOFFSETTO:-0500
RDATE:20290311T020000
RDATE:20300310T020000
END:DAYLIGHT
END:VTIMEZONE
BEGIN:VEVENT
UID:04cf8461-8d08-4a3d-b448-48a7a699bb01
DTSTAMP:20260421T103907Z
DESCRIPTION:
DTSTART;TZID=America/Chicago:20281024T090000
DTEND;TZID=America/Chicago:20281024T100000
LOCATION:Tower City Community Center
SUMMARY:Tower City Bone Builders
END:VEVENT
END:VCALENDAR
