BEGIN:VCALENDAR
VERSION:2.0
PRODID:-//communityofcarend.com//NONSGML kigkonsult.se iCalcreator 2.30.10/
 /
CALSCALE:GREGORIAN
METHOD:PUBLISH
UID:56c8555a-eb72-4f51-9f34-6db54addebcc
X-WR-CALDESC:Low impact exercise class
X-WR-RELCALID:9ce94edf29e59293efe563b7cb9d54d8
X-WR-TIMEZONE:America/Chicago
BEGIN:VTIMEZONE
TZID:America/Chicago
BEGIN:STANDARD
TZNAME:CST
DTSTART:20271107T020000
TZOFFSETFROM:-0500
TZOFFSETTO:-0600
RDATE:20281105T020000
RDATE:20291104T020000
END:STANDARD
BEGIN:DAYLIGHT
TZNAME:CDT
DTSTART:20280312T020000
TZOFFSETFROM:-0600
TZOFFSETTO:-0500
RDATE:20290311T020000
RDATE:20300310T020000
END:DAYLIGHT
END:VTIMEZONE
BEGIN:VEVENT
UID:454af1ba-4590-4839-ac7b-8ae0cd61e531
DTSTAMP:20260421T103510Z
DESCRIPTION:Low impact exercise class
DTSTART;TZID=America/Chicago:20281023T103000
DTEND;TZID=America/Chicago:20281023T113000
LOCATION:Kindred City Hall
SUMMARY:Kindred Bone Builders
END:VEVENT
END:VCALENDAR
