BEGIN:VCALENDAR
VERSION:2.0
PRODID:-//communityofcarend.com//NONSGML kigkonsult.se iCalcreator 2.30.10/
 /
CALSCALE:GREGORIAN
METHOD:PUBLISH
UID:9242098a-c112-4d49-8454-1973cd50905d
X-WR-CALDESC:Low-impact exercise classes.
X-WR-RELCALID:633ed6d618eb1029fdb73d8b536e404a
X-WR-TIMEZONE:America/Chicago
BEGIN:VTIMEZONE
TZID:America/Chicago
BEGIN:STANDARD
TZNAME:CST
DTSTART:20271107T020000
TZOFFSETFROM:-0500
TZOFFSETTO:-0600
RDATE:20281105T020000
RDATE:20291104T020000
END:STANDARD
BEGIN:DAYLIGHT
TZNAME:CDT
DTSTART:20280312T020000
TZOFFSETFROM:-0600
TZOFFSETTO:-0500
RDATE:20290311T020000
RDATE:20300310T020000
END:DAYLIGHT
END:VTIMEZONE
BEGIN:VEVENT
UID:9715b557-a56a-443d-ac1a-5ee5c65e3f06
DTSTAMP:20260421T103511Z
DESCRIPTION:Low-impact exercise classes.
DTSTART;TZID=America/Chicago:20281006T103000
DTEND;TZID=America/Chicago:20281006T113000
LOCATION:Kindred City Hall
SUMMARY:Kindred Bone Builders
END:VEVENT
END:VCALENDAR
