BEGIN:VCALENDAR
VERSION:2.0
PRODID:-//communityofcarend.com//NONSGML kigkonsult.se iCalcreator 2.30.10/
 /
CALSCALE:GREGORIAN
METHOD:PUBLISH
UID:ef04e516-d9c3-4420-8efe-1432033fff72
X-WR-CALDESC:Bone Builder Exercise Class
X-WR-RELCALID:20e764049e5aaa9b18192808dc042133
X-WR-TIMEZONE:America/Chicago
BEGIN:VTIMEZONE
TZID:America/Chicago
BEGIN:STANDARD
TZNAME:CST
DTSTART:20271107T020000
TZOFFSETFROM:-0500
TZOFFSETTO:-0600
RDATE:20281105T020000
RDATE:20291104T020000
END:STANDARD
BEGIN:DAYLIGHT
TZNAME:CDT
DTSTART:20280312T020000
TZOFFSETFROM:-0600
TZOFFSETTO:-0500
RDATE:20290311T020000
RDATE:20300310T020000
END:DAYLIGHT
END:VTIMEZONE
BEGIN:VEVENT
UID:1ae2219a-74b8-4f08-93e7-3f0ca9ca0a38
DTSTAMP:20260421T103640Z
DESCRIPTION:Bone Builder Exercise Class
DTSTART;TZID=America/Chicago:20281002T100000
DTEND;TZID=America/Chicago:20281002T110000
LOCATION:Horace Senior Center
SUMMARY:Horace Bone Builders
END:VEVENT
END:VCALENDAR
