BEGIN:VCALENDAR
VERSION:2.0
PRODID:-//communityofcarend.com//NONSGML kigkonsult.se iCalcreator 2.30.10/
 /
CALSCALE:GREGORIAN
METHOD:PUBLISH
UID:3a1a9bea-84f2-4754-89e0-04ad91d09fab
X-WR-CALDESC:Bone Builder Exercise Class
X-WR-RELCALID:dceac895ae7778d998f7115e55777b4f
X-WR-TIMEZONE:America/Chicago
BEGIN:VTIMEZONE
TZID:America/Chicago
BEGIN:STANDARD
TZNAME:CST
DTSTART:20271107T020000
TZOFFSETFROM:-0500
TZOFFSETTO:-0600
RDATE:20281105T020000
RDATE:20291104T020000
END:STANDARD
BEGIN:DAYLIGHT
TZNAME:CDT
DTSTART:20280312T020000
TZOFFSETFROM:-0600
TZOFFSETTO:-0500
RDATE:20290311T020000
RDATE:20300310T020000
END:DAYLIGHT
END:VTIMEZONE
BEGIN:VEVENT
UID:a7f4b31d-cb63-4270-bdbf-99ad191a137e
DTSTAMP:20260421T090544Z
DESCRIPTION:Bone Builder Exercise Class
DTSTART;TZID=America/Chicago:20280925T100000
DTEND;TZID=America/Chicago:20280925T110000
LOCATION:Horace Senior Center
SUMMARY:Horace Bone Builders
END:VEVENT
END:VCALENDAR
