BEGIN:VCALENDAR
VERSION:2.0
PRODID:-//communityofcarend.com//NONSGML kigkonsult.se iCalcreator 2.30.10/
 /
CALSCALE:GREGORIAN
METHOD:PUBLISH
UID:358b8760-36d3-48af-8670-38fdb6c5362f
X-WR-CALDESC:Bone Builder Exercise Class
X-WR-RELCALID:18480ad43c9cf2baf2c71c7b1d97a1a9
X-WR-TIMEZONE:America/Chicago
BEGIN:VTIMEZONE
TZID:America/Chicago
BEGIN:STANDARD
TZNAME:CST
DTSTART:20271107T020000
TZOFFSETFROM:-0500
TZOFFSETTO:-0600
RDATE:20281105T020000
RDATE:20291104T020000
END:STANDARD
BEGIN:DAYLIGHT
TZNAME:CDT
DTSTART:20280312T020000
TZOFFSETFROM:-0600
TZOFFSETTO:-0500
RDATE:20290311T020000
RDATE:20300310T020000
END:DAYLIGHT
END:VTIMEZONE
BEGIN:VEVENT
UID:87a3b7d3-9e3b-46e6-8438-f06f473674c9
DTSTAMP:20260421T090545Z
DESCRIPTION:Bone Builder Exercise Class
DTSTART;TZID=America/Chicago:20280918T100000
DTEND;TZID=America/Chicago:20280918T110000
LOCATION:Horace Senior Center
SUMMARY:Horace Bone Builders
END:VEVENT
END:VCALENDAR
