BEGIN:VCALENDAR
VERSION:2.0
PRODID:-//communityofcarend.com//NONSGML kigkonsult.se iCalcreator 2.30.10/
 /
CALSCALE:GREGORIAN
METHOD:PUBLISH
UID:ad61ca1e-5e19-4436-a1e1-07d23f67f3d4
X-WR-CALDESC:Bone Builder Exercise Class
X-WR-RELCALID:6bffc05772d93ef11bf7e318872220d9
X-WR-TIMEZONE:America/Chicago
BEGIN:VTIMEZONE
TZID:America/Chicago
BEGIN:STANDARD
TZNAME:CST
DTSTART:20271107T020000
TZOFFSETFROM:-0500
TZOFFSETTO:-0600
RDATE:20281105T020000
RDATE:20291104T020000
END:STANDARD
BEGIN:DAYLIGHT
TZNAME:CDT
DTSTART:20280312T020000
TZOFFSETFROM:-0600
TZOFFSETTO:-0500
RDATE:20290311T020000
RDATE:20300310T020000
END:DAYLIGHT
END:VTIMEZONE
BEGIN:VEVENT
UID:7d16e0cc-b745-4746-8430-e8bce9bf381d
DTSTAMP:20260421T090543Z
DESCRIPTION:Bone Builder Exercise Class
DTSTART;TZID=America/Chicago:20280914T100000
DTEND;TZID=America/Chicago:20280914T110000
LOCATION:Horace Senior Center
SUMMARY:Horace Bone Builders
END:VEVENT
END:VCALENDAR
