BEGIN:VCALENDAR
VERSION:2.0
PRODID:-//communityofcarend.com//NONSGML kigkonsult.se iCalcreator 2.30.10/
 /
CALSCALE:GREGORIAN
METHOD:PUBLISH
UID:23420c8a-6a54-432b-92b3-5413fa0e3eaf
X-WR-CALDESC:Low-impact exercise classes.
X-WR-RELCALID:1eedfb9ec923defefe51ca819ae7a456
X-WR-TIMEZONE:America/Chicago
BEGIN:VTIMEZONE
TZID:America/Chicago
BEGIN:STANDARD
TZNAME:CST
DTSTART:20271107T020000
TZOFFSETFROM:-0500
TZOFFSETTO:-0600
RDATE:20281105T020000
RDATE:20291104T020000
END:STANDARD
BEGIN:DAYLIGHT
TZNAME:CDT
DTSTART:20280312T020000
TZOFFSETFROM:-0600
TZOFFSETTO:-0500
RDATE:20290311T020000
RDATE:20300310T020000
END:DAYLIGHT
END:VTIMEZONE
BEGIN:VEVENT
UID:11820d55-0944-45df-915c-7b64b3a26fca
DTSTAMP:20260421T090303Z
DESCRIPTION:Low-impact exercise classes.
DTSTART;TZID=America/Chicago:20280908T103000
DTEND;TZID=America/Chicago:20280908T113000
LOCATION:Kindred City Hall
SUMMARY:Kindred Bone Builders
END:VEVENT
END:VCALENDAR
