BEGIN:VCALENDAR
VERSION:2.0
PRODID:-//communityofcarend.com//NONSGML kigkonsult.se iCalcreator 2.30.10/
 /
CALSCALE:GREGORIAN
METHOD:PUBLISH
UID:e91d43e2-86a2-4a6c-9cdd-43bff247f0f7
X-WR-CALDESC:
X-WR-RELCALID:9856c7eef6c2f0121ab9a51b448d9cda
X-WR-TIMEZONE:America/Chicago
BEGIN:VTIMEZONE
TZID:America/Chicago
BEGIN:STANDARD
TZNAME:CST
DTSTART:20271107T020000
TZOFFSETFROM:-0500
TZOFFSETTO:-0600
RDATE:20281105T020000
RDATE:20291104T020000
END:STANDARD
BEGIN:DAYLIGHT
TZNAME:CDT
DTSTART:20280312T020000
TZOFFSETFROM:-0600
TZOFFSETTO:-0500
RDATE:20290311T020000
END:DAYLIGHT
END:VTIMEZONE
BEGIN:VEVENT
UID:6b0ad195-62e0-4cef-a79d-e2a9b8275fb0
DTSTAMP:20260421T090715Z
DESCRIPTION:
DTSTART;TZID=America/Chicago:20280905T090000
DTEND;TZID=America/Chicago:20280905T100000
LOCATION:Tower City Community Center
SUMMARY:Tower City Bone Builders
END:VEVENT
END:VCALENDAR
