BEGIN:VCALENDAR
VERSION:2.0
PRODID:-//communityofcarend.com//NONSGML kigkonsult.se iCalcreator 2.30.10/
 /
CALSCALE:GREGORIAN
METHOD:PUBLISH
UID:7fe27c1b-9595-49d3-beff-2f60d1c5bcff
X-WR-CALDESC:Bone Builder Exercise Class
X-WR-RELCALID:7a560238f572641a23cab8e46b2fda40
X-WR-TIMEZONE:America/Chicago
BEGIN:VTIMEZONE
TZID:America/Chicago
BEGIN:STANDARD
TZNAME:CST
DTSTART:20271107T020000
TZOFFSETFROM:-0500
TZOFFSETTO:-0600
RDATE:20281105T020000
RDATE:20291104T020000
END:STANDARD
BEGIN:DAYLIGHT
TZNAME:CDT
DTSTART:20280312T020000
TZOFFSETFROM:-0600
TZOFFSETTO:-0500
RDATE:20290311T020000
END:DAYLIGHT
END:VTIMEZONE
BEGIN:VEVENT
UID:1477c896-0624-4d1c-b7ea-ec316756b0ef
DTSTAMP:20260421T073826Z
DESCRIPTION:Bone Builder Exercise Class
DTSTART;TZID=America/Chicago:20280831T100000
DTEND;TZID=America/Chicago:20280831T110000
LOCATION:Horace Senior Center
SUMMARY:Horace Bone Builders
END:VEVENT
END:VCALENDAR
