BEGIN:VCALENDAR
VERSION:2.0
PRODID:-//communityofcarend.com//NONSGML kigkonsult.se iCalcreator 2.30.10/
 /
CALSCALE:GREGORIAN
METHOD:PUBLISH
UID:54fed157-dcf5-47b1-b93b-b529a84b6524
X-WR-CALDESC:Low impact exercise class
X-WR-RELCALID:03c45e7995e6326d32ac68d539840b17
X-WR-TIMEZONE:America/Chicago
BEGIN:VTIMEZONE
TZID:America/Chicago
BEGIN:STANDARD
TZNAME:CST
DTSTART:20271107T020000
TZOFFSETFROM:-0500
TZOFFSETTO:-0600
RDATE:20281105T020000
RDATE:20291104T020000
END:STANDARD
BEGIN:DAYLIGHT
TZNAME:CDT
DTSTART:20280312T020000
TZOFFSETFROM:-0600
TZOFFSETTO:-0500
RDATE:20290311T020000
END:DAYLIGHT
END:VTIMEZONE
BEGIN:VEVENT
UID:33099364-fc4e-4ece-a2cb-8ffef450cde0
DTSTAMP:20260421T073353Z
DESCRIPTION:Low impact exercise class
DTSTART;TZID=America/Chicago:20280821T103000
DTEND;TZID=America/Chicago:20280821T113000
LOCATION:Kindred City Hall
SUMMARY:Kindred Bone Builders
END:VEVENT
END:VCALENDAR
