BEGIN:VCALENDAR
VERSION:2.0
PRODID:-//communityofcarend.com//NONSGML kigkonsult.se iCalcreator 2.30.10/
 /
CALSCALE:GREGORIAN
METHOD:PUBLISH
UID:7bebdc7f-b76d-4e51-8463-4b959d5a1a4e
X-WR-CALDESC:Bone Builder Exercise Class
X-WR-RELCALID:1eb9cca015c21c66a01bfdf0241f3653
X-WR-TIMEZONE:America/Chicago
BEGIN:VTIMEZONE
TZID:America/Chicago
BEGIN:STANDARD
TZNAME:CST
DTSTART:20271107T020000
TZOFFSETFROM:-0500
TZOFFSETTO:-0600
RDATE:20281105T020000
RDATE:20291104T020000
END:STANDARD
BEGIN:DAYLIGHT
TZNAME:CDT
DTSTART:20280312T020000
TZOFFSETFROM:-0600
TZOFFSETTO:-0500
RDATE:20290311T020000
END:DAYLIGHT
END:VTIMEZONE
BEGIN:VEVENT
UID:ee6d967d-1949-44d2-83f7-6c764b58a37f
DTSTAMP:20260421T073350Z
DESCRIPTION:Bone Builder Exercise Class
DTSTART;TZID=America/Chicago:20280821T100000
DTEND;TZID=America/Chicago:20280821T110000
LOCATION:Horace Senior Center
SUMMARY:Horace Bone Builders
END:VEVENT
END:VCALENDAR
