BEGIN:VCALENDAR
VERSION:2.0
PRODID:-//communityofcarend.com//NONSGML kigkonsult.se iCalcreator 2.30.10/
 /
CALSCALE:GREGORIAN
METHOD:PUBLISH
UID:c587f8bf-f67b-4020-af59-ac2575ea0de5
X-WR-CALDESC:Low-impact exercise classes.
X-WR-RELCALID:e21f0defb473b207a5e027b6803ab4a7
X-WR-TIMEZONE:America/Chicago
BEGIN:VTIMEZONE
TZID:America/Chicago
BEGIN:STANDARD
TZNAME:CST
DTSTART:20271107T020000
TZOFFSETFROM:-0500
TZOFFSETTO:-0600
RDATE:20281105T020000
RDATE:20291104T020000
END:STANDARD
BEGIN:DAYLIGHT
TZNAME:CDT
DTSTART:20280312T020000
TZOFFSETFROM:-0600
TZOFFSETTO:-0500
RDATE:20290311T020000
END:DAYLIGHT
END:VTIMEZONE
BEGIN:VEVENT
UID:18fbad7e-85ed-454c-8bf8-cb5230183a7d
DTSTAMP:20260421T073628Z
DESCRIPTION:Low-impact exercise classes.
DTSTART;TZID=America/Chicago:20280811T103000
DTEND;TZID=America/Chicago:20280811T113000
LOCATION:Kindred City Hall
SUMMARY:Kindred Bone Builders
END:VEVENT
END:VCALENDAR
