BEGIN:VCALENDAR
VERSION:2.0
PRODID:-//communityofcarend.com//NONSGML kigkonsult.se iCalcreator 2.30.10/
 /
CALSCALE:GREGORIAN
METHOD:PUBLISH
UID:6dc58fb7-7c54-4788-874f-daa056d71041
X-WR-CALDESC:Bone Builder Exercise Class
X-WR-RELCALID:81f88ba5c0220bb1793d529222a0e8f3
X-WR-TIMEZONE:America/Chicago
BEGIN:VTIMEZONE
TZID:America/Chicago
BEGIN:STANDARD
TZNAME:CST
DTSTART:20271107T020000
TZOFFSETFROM:-0500
TZOFFSETTO:-0600
RDATE:20281105T020000
RDATE:20291104T020000
END:STANDARD
BEGIN:DAYLIGHT
TZNAME:CDT
DTSTART:20280312T020000
TZOFFSETFROM:-0600
TZOFFSETTO:-0500
RDATE:20290311T020000
END:DAYLIGHT
END:VTIMEZONE
BEGIN:VEVENT
UID:80578554-812a-42e8-9836-3b7390eb6de4
DTSTAMP:20260421T073920Z
DESCRIPTION:Bone Builder Exercise Class
DTSTART;TZID=America/Chicago:20280810T100000
DTEND;TZID=America/Chicago:20280810T110000
LOCATION:Horace Senior Center
SUMMARY:Horace Bone Builders
END:VEVENT
END:VCALENDAR
