BEGIN:VCALENDAR
VERSION:2.0
PRODID:-//communityofcarend.com//NONSGML kigkonsult.se iCalcreator 2.30.10/
 /
CALSCALE:GREGORIAN
METHOD:PUBLISH
UID:afbbb977-a872-44f1-bd9e-c88dc477b8d4
X-WR-CALDESC:Low impact exercise class
X-WR-RELCALID:be8d743e2e86c8e576373edb15f1ebd9
X-WR-TIMEZONE:America/Chicago
BEGIN:VTIMEZONE
TZID:America/Chicago
BEGIN:STANDARD
TZNAME:CST
DTSTART:20271107T020000
TZOFFSETFROM:-0500
TZOFFSETTO:-0600
RDATE:20281105T020000
RDATE:20291104T020000
END:STANDARD
BEGIN:DAYLIGHT
TZNAME:CDT
DTSTART:20280312T020000
TZOFFSETFROM:-0600
TZOFFSETTO:-0500
RDATE:20290311T020000
END:DAYLIGHT
END:VTIMEZONE
BEGIN:VEVENT
UID:d3141f77-bdba-481a-abd3-a9ca853cf4c4
DTSTAMP:20260421T073628Z
DESCRIPTION:Low impact exercise class
DTSTART;TZID=America/Chicago:20280807T103000
DTEND;TZID=America/Chicago:20280807T113000
LOCATION:Kindred City Hall
SUMMARY:Kindred Bone Builders
END:VEVENT
END:VCALENDAR
