BEGIN:VCALENDAR
VERSION:2.0
PRODID:-//communityofcarend.com//NONSGML kigkonsult.se iCalcreator 2.30.10/
 /
CALSCALE:GREGORIAN
METHOD:PUBLISH
UID:7b6d3004-02c7-4b70-b648-37f4fd3d3fb7
X-WR-CALDESC:Low-impact exercise classes.
X-WR-RELCALID:09d910ba46b9297b72101a2bb8e25592
X-WR-TIMEZONE:America/Chicago
BEGIN:VTIMEZONE
TZID:America/Chicago
BEGIN:STANDARD
TZNAME:CST
DTSTART:20271107T020000
TZOFFSETFROM:-0500
TZOFFSETTO:-0600
RDATE:20281105T020000
RDATE:20291104T020000
END:STANDARD
BEGIN:DAYLIGHT
TZNAME:CDT
DTSTART:20280312T020000
TZOFFSETFROM:-0600
TZOFFSETTO:-0500
RDATE:20290311T020000
END:DAYLIGHT
END:VTIMEZONE
BEGIN:VEVENT
UID:abf42904-ac67-42fb-b148-fc92a65f7769
DTSTAMP:20260421T060754Z
DESCRIPTION:Low-impact exercise classes.
DTSTART;TZID=America/Chicago:20280728T103000
DTEND;TZID=America/Chicago:20280728T113000
LOCATION:Kindred City Hall
SUMMARY:Kindred Bone Builders
END:VEVENT
END:VCALENDAR
