BEGIN:VCALENDAR
VERSION:2.0
PRODID:-//communityofcarend.com//NONSGML kigkonsult.se iCalcreator 2.30.10/
 /
CALSCALE:GREGORIAN
METHOD:PUBLISH
UID:a6343cc0-0d9f-4e31-b561-c9409a96b51e
X-WR-CALDESC:Bone Builder Exercise Class
X-WR-RELCALID:07ea588377da48d07a33762db3e8c0e1
X-WR-TIMEZONE:America/Chicago
BEGIN:VTIMEZONE
TZID:America/Chicago
BEGIN:STANDARD
TZNAME:CST
DTSTART:20271107T020000
TZOFFSETFROM:-0500
TZOFFSETTO:-0600
RDATE:20281105T020000
RDATE:20291104T020000
END:STANDARD
BEGIN:DAYLIGHT
TZNAME:CDT
DTSTART:20280312T020000
TZOFFSETFROM:-0600
TZOFFSETTO:-0500
RDATE:20290311T020000
END:DAYLIGHT
END:VTIMEZONE
BEGIN:VEVENT
UID:c68f8977-3bb4-4a96-a0e5-cd4a2092e68d
DTSTAMP:20260421T055941Z
DESCRIPTION:Bone Builder Exercise Class
DTSTART;TZID=America/Chicago:20280720T100000
DTEND;TZID=America/Chicago:20280720T110000
LOCATION:Horace Senior Center
SUMMARY:Horace Bone Builders
END:VEVENT
END:VCALENDAR
