BEGIN:VCALENDAR
VERSION:2.0
PRODID:-//communityofcarend.com//NONSGML kigkonsult.se iCalcreator 2.30.10/
 /
CALSCALE:GREGORIAN
METHOD:PUBLISH
UID:c56ecf8c-8a5b-404c-b810-9f5e6fb97fff
X-WR-CALDESC:Low impact exercise class
X-WR-RELCALID:2549d6f802e0ca2eed65e1b3b093d241
X-WR-TIMEZONE:America/Chicago
BEGIN:VTIMEZONE
TZID:America/Chicago
BEGIN:STANDARD
TZNAME:CST
DTSTART:20271107T020000
TZOFFSETFROM:-0500
TZOFFSETTO:-0600
RDATE:20281105T020000
RDATE:20291104T020000
END:STANDARD
BEGIN:DAYLIGHT
TZNAME:CDT
DTSTART:20280312T020000
TZOFFSETFROM:-0600
TZOFFSETTO:-0500
RDATE:20290311T020000
END:DAYLIGHT
END:VTIMEZONE
BEGIN:VEVENT
UID:de31e8ed-d30a-4761-824e-d324e720cd96
DTSTAMP:20260421T055714Z
DESCRIPTION:Low impact exercise class
DTSTART;TZID=America/Chicago:20280717T103000
DTEND;TZID=America/Chicago:20280717T113000
LOCATION:Kindred City Hall
SUMMARY:Kindred Bone Builders
END:VEVENT
END:VCALENDAR
