BEGIN:VCALENDAR
VERSION:2.0
PRODID:-//communityofcarend.com//NONSGML kigkonsult.se iCalcreator 2.30.10/
 /
CALSCALE:GREGORIAN
METHOD:PUBLISH
UID:68b51f26-6225-48e0-93c1-c35c9859c46f
X-WR-CALDESC:Low-impact exercise classes.
X-WR-RELCALID:2edd77b3d8dad5cf9c299821b49c85ce
X-WR-TIMEZONE:America/Chicago
BEGIN:VTIMEZONE
TZID:America/Chicago
BEGIN:STANDARD
TZNAME:CST
DTSTART:20271107T020000
TZOFFSETFROM:-0500
TZOFFSETTO:-0600
RDATE:20281105T020000
RDATE:20291104T020000
END:STANDARD
BEGIN:DAYLIGHT
TZNAME:CDT
DTSTART:20280312T020000
TZOFFSETFROM:-0600
TZOFFSETTO:-0500
RDATE:20290311T020000
END:DAYLIGHT
END:VTIMEZONE
BEGIN:VEVENT
UID:cc0d4f54-852e-480f-89a5-e5fa43aa5bcb
DTSTAMP:20260421T055713Z
DESCRIPTION:Low-impact exercise classes.
DTSTART;TZID=America/Chicago:20280714T103000
DTEND;TZID=America/Chicago:20280714T113000
LOCATION:Kindred City Hall
SUMMARY:Kindred Bone Builders
END:VEVENT
END:VCALENDAR
