BEGIN:VCALENDAR
VERSION:2.0
PRODID:-//communityofcarend.com//NONSGML kigkonsult.se iCalcreator 2.30.10/
 /
CALSCALE:GREGORIAN
METHOD:PUBLISH
UID:98db5f9f-ab26-41d9-bd50-116485c90486
X-WR-CALDESC:Low impact exercise class
X-WR-RELCALID:c94568f6f2fdd84eabf9b8d5e94d914f
X-WR-TIMEZONE:America/Chicago
BEGIN:VTIMEZONE
TZID:America/Chicago
BEGIN:STANDARD
TZNAME:CST
DTSTART:20271107T020000
TZOFFSETFROM:-0500
TZOFFSETTO:-0600
RDATE:20281105T020000
RDATE:20291104T020000
END:STANDARD
BEGIN:DAYLIGHT
TZNAME:CDT
DTSTART:20280312T020000
TZOFFSETFROM:-0600
TZOFFSETTO:-0500
RDATE:20290311T020000
END:DAYLIGHT
END:VTIMEZONE
BEGIN:VEVENT
UID:0ab90dbe-7c44-42b9-9a45-f63987f45f40
DTSTAMP:20260421T055627Z
DESCRIPTION:Low impact exercise class
DTSTART;TZID=America/Chicago:20280703T103000
DTEND;TZID=America/Chicago:20280703T113000
LOCATION:Kindred City Hall
SUMMARY:Kindred Bone Builders
END:VEVENT
END:VCALENDAR
