BEGIN:VCALENDAR
VERSION:2.0
PRODID:-//communityofcarend.com//NONSGML kigkonsult.se iCalcreator 2.30.10/
 /
CALSCALE:GREGORIAN
METHOD:PUBLISH
UID:cfd4b3a8-02ce-4cfb-b50e-ea2520078f63
X-WR-CALDESC:Bone Builder Exercise Class
X-WR-RELCALID:ba78710dbed68b5bcfd544cc65b8b54a
X-WR-TIMEZONE:America/Chicago
BEGIN:VTIMEZONE
TZID:America/Chicago
BEGIN:STANDARD
TZNAME:CST
DTSTART:20271107T020000
TZOFFSETFROM:-0500
TZOFFSETTO:-0600
RDATE:20281105T020000
RDATE:20291104T020000
END:STANDARD
BEGIN:DAYLIGHT
TZNAME:CDT
DTSTART:20280312T020000
TZOFFSETFROM:-0600
TZOFFSETTO:-0500
RDATE:20290311T020000
END:DAYLIGHT
END:VTIMEZONE
BEGIN:VEVENT
UID:68e685b0-f456-4762-b344-0581c3fbb675
DTSTAMP:20260421T043455Z
DESCRIPTION:Bone Builder Exercise Class
DTSTART;TZID=America/Chicago:20280626T100000
DTEND;TZID=America/Chicago:20280626T110000
LOCATION:Horace Senior Center
SUMMARY:Horace Bone Builders
END:VEVENT
END:VCALENDAR
