BEGIN:VCALENDAR
VERSION:2.0
PRODID:-//communityofcarend.com//NONSGML kigkonsult.se iCalcreator 2.30.10/
 /
CALSCALE:GREGORIAN
METHOD:PUBLISH
UID:2f36f18a-2f4c-4a38-9c27-ccdad6ddb093
X-WR-CALDESC:Low impact exercise class
X-WR-RELCALID:4e6e5bc7b9fe68d0fcbf60696203afc6
X-WR-TIMEZONE:America/Chicago
BEGIN:VTIMEZONE
TZID:America/Chicago
BEGIN:STANDARD
TZNAME:CST
DTSTART:20271107T020000
TZOFFSETFROM:-0500
TZOFFSETTO:-0600
RDATE:20281105T020000
RDATE:20291104T020000
END:STANDARD
BEGIN:DAYLIGHT
TZNAME:CDT
DTSTART:20280312T020000
TZOFFSETFROM:-0600
TZOFFSETTO:-0500
RDATE:20290311T020000
END:DAYLIGHT
END:VTIMEZONE
BEGIN:VEVENT
UID:6796d664-8556-4761-ad0a-b8e83469b9ef
DTSTAMP:20260421T042323Z
DESCRIPTION:Low impact exercise class
DTSTART;TZID=America/Chicago:20280619T103000
DTEND;TZID=America/Chicago:20280619T113000
LOCATION:Kindred City Hall
SUMMARY:Kindred Bone Builders
END:VEVENT
END:VCALENDAR
