BEGIN:VCALENDAR
VERSION:2.0
PRODID:-//communityofcarend.com//NONSGML kigkonsult.se iCalcreator 2.30.10/
 /
CALSCALE:GREGORIAN
METHOD:PUBLISH
UID:3456b2ee-16cb-4405-90f5-96824e402a66
X-WR-CALDESC:Bone Builder Exercise Class
X-WR-RELCALID:1cbc25157efafa10609990c45bc5bd64
X-WR-TIMEZONE:America/Chicago
BEGIN:VTIMEZONE
TZID:America/Chicago
BEGIN:STANDARD
TZNAME:CST
DTSTART:20271107T020000
TZOFFSETFROM:-0500
TZOFFSETTO:-0600
RDATE:20281105T020000
RDATE:20291104T020000
END:STANDARD
BEGIN:DAYLIGHT
TZNAME:CDT
DTSTART:20280312T020000
TZOFFSETFROM:-0600
TZOFFSETTO:-0500
RDATE:20290311T020000
END:DAYLIGHT
END:VTIMEZONE
BEGIN:VEVENT
UID:539ca9ee-8502-4b45-8be6-d101651c8b7e
DTSTAMP:20260421T043810Z
DESCRIPTION:Bone Builder Exercise Class
DTSTART;TZID=America/Chicago:20280615T100000
DTEND;TZID=America/Chicago:20280615T110000
LOCATION:Horace Senior Center
SUMMARY:Horace Bone Builders
END:VEVENT
END:VCALENDAR
