BEGIN:VCALENDAR
VERSION:2.0
PRODID:-//communityofcarend.com//NONSGML kigkonsult.se iCalcreator 2.30.10/
 /
CALSCALE:GREGORIAN
METHOD:PUBLISH
UID:5997f323-6f7a-44a3-b8d0-4a07e3b184fb
X-WR-CALDESC:Low impact exercise class
X-WR-RELCALID:ed742f3e69c83f1027b29eb070b1e86a
X-WR-TIMEZONE:America/Chicago
BEGIN:VTIMEZONE
TZID:America/Chicago
BEGIN:STANDARD
TZNAME:CST
DTSTART:20271107T020000
TZOFFSETFROM:-0500
TZOFFSETTO:-0600
RDATE:20281105T020000
RDATE:20291104T020000
END:STANDARD
BEGIN:DAYLIGHT
TZNAME:CDT
DTSTART:20280312T020000
TZOFFSETFROM:-0600
TZOFFSETTO:-0500
RDATE:20290311T020000
END:DAYLIGHT
END:VTIMEZONE
BEGIN:VEVENT
UID:ef6dc997-f16d-43cf-9db5-14875fd45485
DTSTAMP:20260421T025431Z
DESCRIPTION:Low impact exercise class
DTSTART;TZID=America/Chicago:20280529T103000
DTEND;TZID=America/Chicago:20280529T113000
LOCATION:Kindred City Hall
SUMMARY:Kindred Bone Builders
END:VEVENT
END:VCALENDAR
